BEGIN:VCALENDAR
VERSION:2.0
PRODID:-//Tukios.com/
BEGIN:VEVENT
UID:00787321-0099-427f-80bc-869d34e67dff@www.matthewsmortuaryidaho.com
DTSTAMP:20260421T190745Z
DTSTART:20260424T180000Z
DTEND:20260424T200000Z
SUMMARY:Celebration of Life
DESCRIPTION:
URL:https://www.matthewsmortuaryidaho.com/obituaries/ricky-tueller
LOCATION:Lewiston City Hall 29 South Main Street  Lewiston UT 84320
GEO:41.9753181;-111.8563928
END:VEVENT
END:VCALENDAR