BEGIN:VCALENDAR
VERSION:2.0
PRODID:-//Tukios.com/
BEGIN:VEVENT
UID:8a774f67-e7a9-4d5a-9728-ca1eaaa68399@www.matthewsmortuaryidaho.com
DTSTAMP:20260421T190618Z
DTSTART:20260424T170000Z
DTEND:20260424T180000Z
SUMMARY:Graveside Service
DESCRIPTION:
URL:https://www.matthewsmortuaryidaho.com/obituaries/ricky-tueller
LOCATION:Lewiston Cemetery 1000 East Center Street  Lewiston UT 84320
GEO:41.9770252;-111.8311475
END:VEVENT
END:VCALENDAR